BEGIN:VCALENDAR
VERSION:2.0
PRODID:-//happyhorsemanship.de - ECPv6.15.18//NONSGML v1.0//EN
CALSCALE:GREGORIAN
METHOD:PUBLISH
X-WR-CALNAME:happyhorsemanship.de
X-ORIGINAL-URL:https://happyhorsemanship.de
X-WR-CALDESC:Veranstaltungen für happyhorsemanship.de
REFRESH-INTERVAL;VALUE=DURATION:PT1H
X-Robots-Tag:noindex
X-PUBLISHED-TTL:PT1H
BEGIN:VTIMEZONE
TZID:Europe/Berlin
BEGIN:DAYLIGHT
TZOFFSETFROM:+0100
TZOFFSETTO:+0200
TZNAME:CEST
DTSTART:20250330T010000
END:DAYLIGHT
BEGIN:STANDARD
TZOFFSETFROM:+0200
TZOFFSETTO:+0100
TZNAME:CET
DTSTART:20251026T010000
END:STANDARD
BEGIN:DAYLIGHT
TZOFFSETFROM:+0100
TZOFFSETTO:+0200
TZNAME:CEST
DTSTART:20260329T010000
END:DAYLIGHT
BEGIN:STANDARD
TZOFFSETFROM:+0200
TZOFFSETTO:+0100
TZNAME:CET
DTSTART:20261025T010000
END:STANDARD
BEGIN:DAYLIGHT
TZOFFSETFROM:+0100
TZOFFSETTO:+0200
TZNAME:CEST
DTSTART:20270328T010000
END:DAYLIGHT
BEGIN:STANDARD
TZOFFSETFROM:+0200
TZOFFSETTO:+0100
TZNAME:CET
DTSTART:20271031T010000
END:STANDARD
END:VTIMEZONE
BEGIN:VEVENT
DTSTART;TZID=Europe/Berlin:20260501T090000
DTEND;TZID=Europe/Berlin:20260503T180000
DTSTAMP:20260421T140000
CREATED:20250909T081044Z
LAST-MODIFIED:20260112T175151Z
UID:6606-1777626000-1777831200@happyhorsemanship.de
SUMMARY:01.–03. Mai 2026 | Horsemanship mit Michael Wanzenried (Parelli 5★ Instruktor)
DESCRIPTION:Balance International\, Carol Brett\, Ecole de Légèrté\, Equine Pathway Programme\, Horsemanship\, Michael Wanzenried\, Remedial Programme\, The Horses Voice\n\n\nMit Horsemanship zum ausgeglichenen und balancierten Reitpferd – Kurs mit Michael Wanzenried (Parelli 5★ Instruktor) vom 01.–03. Mai 2026 im Westerwald\n\n\n\n\n\n\n\nAuch 2026 dürfen wir uns wieder auf Michael Wanzenried freuen – einen beeindruckenden Pferdemenschen\, der Wissen\, Erfahrung und Bodenständigkeit auf einzigartige Weise vereint. \n\n\n\nSchon mit vier Jahren saß Michael auf dem Pferd – unter Anleitung seines Vaters. Es folgte eine zehnjährige\, erfolgreiche Karriere im Rennsport\, bevor er sich ganz dem Horsemanship widmete:Er studierte das komplette Parelli-Programm und verbrachte sechs Jahre als enger Wegbegleiter an der Seite von Pat Parelli. Anschließend vertiefte er seine Kenntnisse über klassische Dressur bei Philippe Karl in der École de Légèreté – weitere sechs Jahre intensiver Ausbildung. \n\n\n\nHeute gilt Michaels besonderes Interesse der Balance des Pferdes – körperlich wie mental. Mit dem von ihm entwickelten Equine Pathway Programme begleitet er Reiter:innen in ganz Europa – fundiert\, strukturiert\, humorvoll und immer auf Augenhöhe. \n\n\n\nSeine Schüler:innen schätzen ihn für seine große fachliche Bandbreite\, seine klaren Erklärungen und seinen unverwechselbaren Humor. Gemeinsam mit seiner Frau Claudia lebt er in Le Bois (Jura)\, wo sie gemeinsam eine liebevolle Jungpferdeaufzucht betreiben. \n\n\n\nHinweis zu unseren AGBMit dem Kauf akzeptierst du unsere AGB\, die du hier einsehen kannst. https://happyhorsemanship.de/agb/ \n\n\n\n\n\n\n\nKontakt\n\n\n\n\n\n\n\nVeranstaltungsort
URL:https://happyhorsemanship.de/event/michael-wanzenried-parelli-kurs-mai-2026/
LOCATION:Reitanlage Reuscher Rennerod\, Talhof 2\, Rennerod\, Westerwald\, Rheinland-Pfalz\,\, 56477\, Germany
ATTACH;FMTTYPE=image/jpeg:https://happyhorsemanship.de/wp-content/uploads/2024/11/Michael-Wanzenried-Horsemanship-e1730557642577.jpg
ORGANIZER;CN="Happyhorsemanship by Susanne Ehrt":MAILTO:hallo@happyhorsemanship.de
END:VEVENT
END:VCALENDAR