BEGIN:VCALENDAR
VERSION:2.0
PRODID:-//happyhorsemanship.de - ECPv6.15.18//NONSGML v1.0//EN
CALSCALE:GREGORIAN
METHOD:PUBLISH
X-ORIGINAL-URL:https://happyhorsemanship.de
X-WR-CALDESC:Veranstaltungen für happyhorsemanship.de
REFRESH-INTERVAL;VALUE=DURATION:PT1H
X-Robots-Tag:noindex
X-PUBLISHED-TTL:PT1H
BEGIN:VTIMEZONE
TZID:Europe/Berlin
BEGIN:DAYLIGHT
TZOFFSETFROM:+0100
TZOFFSETTO:+0200
TZNAME:CEST
DTSTART:20250330T010000
END:DAYLIGHT
BEGIN:STANDARD
TZOFFSETFROM:+0200
TZOFFSETTO:+0100
TZNAME:CET
DTSTART:20251026T010000
END:STANDARD
BEGIN:DAYLIGHT
TZOFFSETFROM:+0100
TZOFFSETTO:+0200
TZNAME:CEST
DTSTART:20260329T010000
END:DAYLIGHT
BEGIN:STANDARD
TZOFFSETFROM:+0200
TZOFFSETTO:+0100
TZNAME:CET
DTSTART:20261025T010000
END:STANDARD
BEGIN:DAYLIGHT
TZOFFSETFROM:+0100
TZOFFSETTO:+0200
TZNAME:CEST
DTSTART:20270328T010000
END:DAYLIGHT
BEGIN:STANDARD
TZOFFSETFROM:+0200
TZOFFSETTO:+0100
TZNAME:CET
DTSTART:20271031T010000
END:STANDARD
END:VTIMEZONE
BEGIN:VEVENT
DTSTART;TZID=Europe/Berlin:20260605T090000
DTEND;TZID=Europe/Berlin:20260607T180000
DTSTAMP:20260421T154445
CREATED:20250909T094336Z
LAST-MODIFIED:20260112T175118Z
UID:6647-1780650000-1780855200@happyhorsemanship.de
SUMMARY:05. - 07. Juni 2026 | Berni Zambail (Parelli 6★ Instruktor) - Privatkurs
DESCRIPTION:Balance International\, Carol Brett\, Ecole de Légèrté\, Equine Pathway Programme\, Horsemanship\, Michael Wanzenried\, Remedial Programme\, The Horses Voice\n\n\nMastering Horsemanship mit 6-Sterne Parelli Instruktor – Privatkurs\n\n\n\n\n\n\n\nWer Berni Zambail begegnet\, spürt sofort sein Charisma: ein echter Pferdemensch mit außergewöhnlichem Fachwissen\, beeindruckender Ausstrahlung und einem feinen Gespür für Pferd und Mensch. Als Horsemanship-Instruktor\, Mentor und leidenschaftlicher Ausbilder vermittelt er nicht nur Technik – sondern echtes Verständnis. \n\n\n\nSein Ziel im Horsemanship ist die Verfeinerung der klassischen Dressur – auf der Suche nach echter Légèreté\, der Leichtigkeit in der Verbindung zwischen Reiter und Pferd. \n\n\n\nBerni bildet sich kontinuierlich weiter\, unter anderem bei renommierten Pferde- und Reitexperten wie Michel Henriques (Schüler von Nuno Oliveira)\, Bent Branderup\, Fritz Stahlecker\, Mike Bridges – und natürlich bei Pat & Linda Parelli\, die seine Arbeit nachhaltig geprägt haben. \n\n\n\nEin Leitsatz\, der ihn besonders inspiriert\, stammt von Fritz Stahlecker: \n\n\n\n\n„Ist im Laufe der Zeit nicht zu sehr in Vergessenheit geraten\, dass Dressurreiten – zu Ende gedacht – Kunst sein soll?“ \n\n\n\n\nWer Berni live erleben darf\, nimmt weit mehr mit als Wissen – nämlich Inspiration\, Feinfühligkeit und das Bewusstsein\, dass Reiten weit über Technik hinausgeht. \n\n\n\nHinweis zu unseren AGBMit dem Kauf akzeptierst du unsere AGB\, die du hier einsehen kannst. https://happyhorsemanship.de/agb/ \n\n\n\n\n\n\n\nKontakt\n\n\n\n\n\n\n\nVeranstaltungsort
URL:https://happyhorsemanship.de/event/berni-zambail-privatkurs-juni-2026/
LOCATION:Reitanlage Reuscher Rennerod\, Talhof 2\, Rennerod\, Westerwald\, Rheinland-Pfalz\,\, 56477\, Germany
ATTACH;FMTTYPE=image/jpeg:https://happyhorsemanship.de/wp-content/uploads/2024/11/Berni-Zambail-Parelli.jpg
END:VEVENT
END:VCALENDAR