BEGIN:VCALENDAR
VERSION:2.0
PRODID:-//happyhorsemanship.de - ECPv6.15.18//NONSGML v1.0//EN
CALSCALE:GREGORIAN
METHOD:PUBLISH
X-WR-CALNAME:happyhorsemanship.de
X-ORIGINAL-URL:https://happyhorsemanship.de
X-WR-CALDESC:Veranstaltungen für happyhorsemanship.de
REFRESH-INTERVAL;VALUE=DURATION:PT1H
X-Robots-Tag:noindex
X-PUBLISHED-TTL:PT1H
BEGIN:VTIMEZONE
TZID:Europe/Berlin
BEGIN:DAYLIGHT
TZOFFSETFROM:+0100
TZOFFSETTO:+0200
TZNAME:CEST
DTSTART:20250330T010000
END:DAYLIGHT
BEGIN:STANDARD
TZOFFSETFROM:+0200
TZOFFSETTO:+0100
TZNAME:CET
DTSTART:20251026T010000
END:STANDARD
BEGIN:DAYLIGHT
TZOFFSETFROM:+0100
TZOFFSETTO:+0200
TZNAME:CEST
DTSTART:20260329T010000
END:DAYLIGHT
BEGIN:STANDARD
TZOFFSETFROM:+0200
TZOFFSETTO:+0100
TZNAME:CET
DTSTART:20261025T010000
END:STANDARD
BEGIN:DAYLIGHT
TZOFFSETFROM:+0100
TZOFFSETTO:+0200
TZNAME:CEST
DTSTART:20270328T010000
END:DAYLIGHT
BEGIN:STANDARD
TZOFFSETFROM:+0200
TZOFFSETTO:+0100
TZNAME:CET
DTSTART:20271031T010000
END:STANDARD
END:VTIMEZONE
BEGIN:VEVENT
DTSTART;TZID=Europe/Berlin:20260904T090000
DTEND;TZID=Europe/Berlin:20260906T180000
DTSTAMP:20260423T124310
CREATED:20250909T101913Z
LAST-MODIFIED:20260112T175027Z
UID:6631-1788512400-1788717600@happyhorsemanship.de
SUMMARY:04.–06. September 2026 | Horsemanship mit Michael Wanzenried (Parelli 5★ Instruktor)
DESCRIPTION:Balance International\, Carol Brett\, Ecole de Légèrté\, Equine Pathway Programme\, Horsemanship\, Michael Wanzenried\, Remedial Programme\, The Horses Voice\n\n\nMit Horsemanship zum ausgeglichenen und balancierten Reitpferd – Kurs mit Michael Wanzenried (Parelli 5★ Instruktor) vom 04.–06. September 2026 im Westerwald\n\n\n\n\n\n\n\nIm Herbst 2026 haben wir erneut die Ehre\, Michael Wanzenried im Westerwald zu begrüßen – einen außergewöhnlichen Pferdemenschen\, der seine tiefe Erfahrung mit einer klaren\, praxisnahen Art zu lehren verbindet. \n\n\n\nSeine reiterliche Laufbahn begann schon früh: Bereits im Kindesalter saß Michael im Sattel und sammelte wertvolle Erfahrungen im Rennsport\, bevor er sich ganz dem Horsemanship verschrieb. Über viele Jahre vertiefte er sein Wissen in der Zusammenarbeit mit Pat Parelli und erhielt dort die höchste Auszeichnung als Parelli 5★ Instruktor. Später ergänzte er dieses Fundament durch intensive Studien der klassischen Dressur bei Philippe Karl in der École de Légèreté. \n\n\n\nHeute liegt sein besonderes Augenmerk auf der Balance von Pferd und Reiter – körperlich wie mental. Mit dem von ihm entwickelten Equine Pathway Programme unterstützt er Pferdemenschen in ganz Europa\, ihr Training strukturiert und zugleich mit Humor und Leichtigkeit zu gestalten. \n\n\n\nSeine Teilnehmer:innen schätzen ihn für seine Vielseitigkeit\, seine verständlichen Erklärungen und seine motivierende Art. Zusammen mit seiner Frau Claudia führt er im Jura eine liebevolle Jungpferdeaufzucht – stets mit Blick auf das Wohl des Pferdes. \n\n\n\nHinweis zu unseren AGBMit dem Kauf akzeptierst du unsere AGB\, die du hier einsehen kannst. https://happyhorsemanship.de/agb/ \n\n\n\n\n\n\n\nKontakt\n\n\n\n\n\n\n\nVeranstaltungsort
URL:https://happyhorsemanship.de/event/michael-wanzenried-parelli-kurs-september-2026/
LOCATION:Reitanlage Reuscher Rennerod\, Talhof 2\, Rennerod\, Westerwald\, Rheinland-Pfalz\,\, 56477\, Germany
ATTACH;FMTTYPE=image/jpeg:https://happyhorsemanship.de/wp-content/uploads/2024/11/Michael-Wanzenried-Horsemanship-e1730557642577.jpg
ORGANIZER;CN="Happyhorsemanship by Susanne Ehrt":MAILTO:hallo@happyhorsemanship.de
END:VEVENT
END:VCALENDAR